BEGIN:VCALENDAR
VERSION:2.0
PRODID:-//eventon.com NONSGML v1.0//EN
CALSCALE:GREGORIAN
METHOD:PUBLISH
BEGIN:VEVENT
UID:69e6b2598ae0b
DTSTAMP:20260420T231017Z
DTSTART:20250124T000000Z
DTEND:20250127T000000Z
LOCATION:
SUMMARY:Awakening Mexico 2025
DESCRIPTION:Awakening Mexico 2025\nhttps://ryanjohnson.us/events/awakening-
 mexico-2025/
URL:https://ryanjohnson.us/events/awakening-mexico-2025/
END:VEVENT
END:VCALENDAR